BEGIN:VCALENDAR
VERSION:2.0
X-WR-TIMEZONE:Europe/Paris
PRODID:-//Audencia//NONSGML v1.0//EN
CALSCALE:GREGORIAN
BEGIN:VEVENT
SUMMARY:CCI France Chine Event: French National Day Celebration - South China
DTSTART:20230713T110000
DTEND:20230713T160000
UID:1612
DTSTAMP:20260425T210114
LOCATION:4078 Dongbin Road, Nanshan District, Shenzhen, Guangdong, China
DESCRIPTION:The French National Day is known as the most important celebration for the French people. Symbol of gathering, sharing and enjoying the moment, it is all about genuine French culture.\n法国国庆节是法国人民最重要的庆祝活动。它是人们聚会、分享和享受当下的象征，也是真正法国文化的体现。\n\n\nCCI FRANCE CHINE is honored to organize a French National Day celebration to bring together the Sino-French community in Shenzhen and all lovers of French culture & spirit. \n中国法国工商会很荣幸能在深圳举办法国国庆日庆祝活动， 将深圳中法商务圈人士和所有喜爱法国文化和法国精神的人们聚在一起。   \n\n\nWelcome to La Fête Nationale, and enjoy an evening of evening of symbolic festivities.\n\nTo sublimate this evening, CCI FRANCE CHINE has the pleasure to hold the event at Residence G, Shenzhen. \n\n欢迎来到深圳G公寓，与我们一起庆祝法国国庆节！\n\n\nDate 日期\n\nThursday, 13 July 2023     \n\n2023年7月13日，周四\n\nTime 时间\n\n5:00 PM - 10:00 PM\n\n晚上5点-晚上10点\n\nVenue 地点\n\nResidence G 深圳G公寓\n\n4078 Dongbin Road, Nanshan District, Shenzhen, Guangdong, China\n广东省深圳市南山区东滨路4078号永新汇\n\n\nAGENDA 活动安排\n\n5:00 PM - 6:30 PM: Welcoming drinks​\n\n\n6:30 PM - 7:15 PM: Official Speeches ​\n\n\n7:15 PM - 10:00 PM: Cocktail dinner and National Day Celebration with Live musical performance ​\n\n \n\nDress Code 着装要求 \n\nCasual 便装\n\n\nFees 费用\n\nAudencia Alumni & CCI FRANCE CHINE Member : 280 RMB\n\n会员价：280元/位\n\nRegistration 报名\nScan the QR code or click here\n扫描下方二维码或点击此处\n \n\n
BEGIN:VALARM
ACTION:DISPLAY
TRIGGER:-PT60M
DESCRIPTION:CCI France Chine Event: French National Day Celebration - South China
END:VALARM
END:VEVENT
END:VCALENDAR