BEGIN:VCALENDAR
VERSION:2.0
X-WR-TIMEZONE:Europe/Paris
PRODID:-//Audencia//NONSGML v1.0//EN
CALSCALE:GREGORIAN
BEGIN:VEVENT
SUMMARY:THEATRE | Eurydice de Jean Anouilh, mis en scène par Emmanuel Gaury, avec Gaspard Cuillé
DTSTART:20230706T120000
DTEND:20230715T233000
UID:1611
DTSTAMP:20260425T210432
LOCATION:Théâtre de Poche-Montparnasse, 75 boulevard du Montparnasse, 75006 Paris
DESCRIPTION:Eurydice\n\nde Jean Anouilh ,\nmise en scène Emmanuel Gaury\navec Gaspard Cuillé (GE 2011)\n\n? Du jeudi 6 juillet au samedi 15 juillet 2023 (du mardi au samedi à 19h et le dimanche à 17h30) \n? au Théâtre de Poche Montparnasse, Paris\n? Remise alumni : 20 euros la place (au lieu de 26) avec le code AUDENCIA-ALUMNI sur réservation au 01.45.44.50.21 (tous les jours à partir de 14h). \n\n\n? Orphée, musicien ambulant, rencontre Eurydice, comédienne en tournée. C’est le coup de foudre ! Ensemble, ils fuient l’avenir médiocre qui leur est promis. Mais Eurydice meurt tragiquement. Un étrange Monsieur Henri invite alors Orphée à rejoindre son amour perdu aux portes de la mort. On n’échappe pas plus à son passé qu’à son destin… Anouilh revisite le mythe avec une ironie poétique et non moins vivifiante.\n\nAuteur : Jean Anouilh\nArtistes : Bérénice Boccara, Gaspard Cuillé ou Emmanuel Gaury, Benjamin Romieux, Corinne Zarzavatdjian, Patrick Bethbeder, Maxime Bentegeat ou Victor O'Byrne, Jérôme Godgrand, Lou Lefevre\nMetteur en scène : Emmanuel Gaury\n
BEGIN:VALARM
ACTION:DISPLAY
TRIGGER:-PT60M
DESCRIPTION:THEATRE | Eurydice de Jean Anouilh, mis en scène par Emmanuel Gaury, avec Gaspard Cuillé
END:VALARM
END:VEVENT
END:VCALENDAR