BEGIN:VCALENDAR
VERSION:2.0
X-WR-TIMEZONE:Europe/Paris
PRODID:-//Audencia//NONSGML v1.0//EN
CALSCALE:GREGORIAN
BEGIN:VEVENT
SUMMARY:CCI France Chine Event avec M. l'Ambassadeur: Point sur la situation économique et les relations bilatérales
DTSTART:20230707T090000
DTEND:20230707T100000
UID:1610
DTSTAMP:20260425T210118
LOCATION:CCI FRANCE CHINE Beijing Office + WEBINAIRE
DESCRIPTION:Chers Membres,\n\n \n\nLa CCI FRANCE CHINE et l'Ambassade de France en Chine vous proposent un nouveau point sur l'actualité politique et économique, le Vendredi 7 Juillet à 15h00 (Heure de Chine GMT+8).\n\n \n\nM. Bertrand LORTHOLARY, Ambassadeur de France en Chine et M. Jean-Marc FENET, Ministre Conseiller pour les Affaires Economiques à l'Ambassade de France en Chine feront un point sur la situation économique et les relations bilatérales et répondront aux questions des entreprises françaises implantées en Chine.\n\n \n\nCette conférence vous est également proposée en webinar. Les informations de connexion seront communiquées par email, après inscription, quelques jours avant l'événement.\n\n \n\nDate :  Vendredi 7 Juillet 2023\n\nAgenda : (heure de Chine GMT+8)\n\n14h30 - 15h00: Accueil des participants\n\n15h00 - 16h00 : Webinar\n\n16h00 - 17h30: Cocktail & Networking\n\n \n\nLangue : Français\n\nFrais : Gratuit\n\nParticipation : ouvert à tous\n\nLieu : CCI FRANCE CHINE Beijing Office + WEBINAIRE \n\nScannez the code QR ou cliquez ici pour vous inscire\n\n\n
BEGIN:VALARM
ACTION:DISPLAY
TRIGGER:-PT60M
DESCRIPTION:CCI France Chine Event avec M. l'Ambassadeur: Point sur la situation économique et les relations bilatérales
END:VALARM
END:VEVENT
END:VCALENDAR