BEGIN:VCALENDAR
VERSION:2.0
X-WR-TIMEZONE:Europe/Paris
PRODID:-//Audencia//NONSGML v1.0//EN
CALSCALE:GREGORIAN
BEGIN:VEVENT
SUMMARY:International Day: Networking with alumni, Audencia Atlantic Campus, Nantes
DTSTART:20180222T173000
DTEND:20180222T183000
UID:161
DTSTAMP:20260425T205733
LOCATION:Audencia Alumni Corner - Atlantic Campus, Nantes
DESCRIPTION:22nd February is International Day at Audencia. Throughout the afternoon, students will have the opportunity to attend workshops focusing on international topics.\nIf there were any questions that you didn't have to opportunity to ask, come and join the informal networking session at 17:30 at the Alumni Corner.\n \nRegister for this networking event on Tomorrow \nCheck your Tomorrow agenda for exact times and locations of all sessions
BEGIN:VALARM
ACTION:DISPLAY
TRIGGER:-PT60M
DESCRIPTION:International Day: Networking with alumni, Audencia Atlantic Campus, Nantes
END:VALARM
END:VEVENT
END:VCALENDAR