BEGIN:VCALENDAR
VERSION:2.0
X-WR-TIMEZONE:Europe/Paris
PRODID:-//Audencia//NONSGML v1.0//EN
CALSCALE:GREGORIAN
BEGIN:VEVENT
SUMMARY:Club Activités Culturelles : Balade & Coaching Photo
DTSTART:20231007T100000
DTEND:20231007T120000
UID:1609
DTSTAMP:20260425T205900
LOCATION:Bibliothèque François-Mitterrand Quai François Mauriac Paris
DESCRIPTION:\nLe Club Activités Culturelles organise une séance de balade et coaching photo avec Caroline Bleux, photographe professionnelle, le samedi 7 octobre à 10h. \n\nNaviguant dans les rues de Paris, cette balade photographique sera l’opportunité d’échanger autour de la technique de l’image et d’appréhender les sujets qui nous entoureront (photos volées/spontanées, urbaines, portraits naturels…).\n \n\nPlaces limitées, inscriptions obligatoires !\n\n\n\nQuestions : nushad.merchant@audencia.com
BEGIN:VALARM
ACTION:DISPLAY
TRIGGER:-PT60M
DESCRIPTION:Club Activités Culturelles : Balade & Coaching Photo
END:VALARM
END:VEVENT
END:VCALENDAR