BEGIN:VCALENDAR
VERSION:2.0
X-WR-TIMEZONE:Europe/Paris
PRODID:-//Audencia//NONSGML v1.0//EN
CALSCALE:GREGORIAN
BEGIN:VEVENT
SUMMARY:Soirée des Audacieux - Inscription sur invitation
DTSTART:20230911T190000
DTEND:20230911T220000
UID:1608
DTSTAMP:20260425T210002
LOCATION:Palais du Luxembourg, 15 Rue de Vaugirard, 75006 Paris
DESCRIPTION:\n\n\nGrands donateurs et futurs donateurs, venez participer à un moment de remerciement, d’échange et de partage autour d’un cocktail dinatoire.\n\nC’est une occasion unique de rencontrer des étudiants remarquables prêts à témoigner de leurs parcours. Leurs témoignages prouvent que votre engagement peut faire bouger les choses en faveur du bien commun !\n\nLors de cette soirée placée sous le signe de la solidarité et de la philanthropie, avec la présence de Didier Gaffinel, Président de la Fondation, et Christophe Germain, Directeur général d'Audencia, vous pourrez soutenir 3 projets essentiels aux enjeux de Diversité et d’Inclusion de l’Ecole.\n\nCette soirée sera animée par Cécile Lefort, diplômée Audencia SciencesCom 2002 et Animatrice. \n\nRDV lundi 11 septembre à 19h au Palais du Luxembourg !\n\n\nPour toutes questions nous joindre à l’adresse mail : fondation@audencia.com\n\nToutes les informations sur nos projets : https://fondation.audencia.com
BEGIN:VALARM
ACTION:DISPLAY
TRIGGER:-PT60M
DESCRIPTION:Soirée des Audacieux - Inscription sur invitation
END:VALARM
END:VEVENT
END:VCALENDAR