BEGIN:VCALENDAR
VERSION:2.0
X-WR-TIMEZONE:Europe/Paris
PRODID:-//Audencia//NONSGML v1.0//EN
CALSCALE:GREGORIAN
BEGIN:VEVENT
SUMMARY:Geneva Mini-Golf Trophy 2023
DTSTART:20230629T190000
DTEND:20230629T235900
UID:1605
DTSTAMP:20260425T210116
LOCATION:Rollers Mini-Golf bar Rle des Templiers 4 1207 Genève,
DESCRIPTION:Avis aux golfeurs et non golfeurs, aux petits et aux grands, aux habitués du chapter et à ceux qui le sont moins!\n\nSuite à la triste annulation du Audencia Golf Trophy 2023, le Chapter Geneve ne se laisse pas abattre et inaugure le 29 juin le premier Geneva Mini-Golf Trophy!\n\nCela se passe au Rollers Mini-golf Bar dans le centre de Genève, qui offre des "aventures de Minigolf réalisées avec amour" sur le thème du cinéma: MINI Golf mais MAXI fun garanti! Inscrivez-vous vite car les places sont limitées à 20 joueurs, soit deux équipes de 10 qui s'affronteront dans une lutte acharnée!\n\nGrâce à une généreuse contribution de notre bureau alumni et du comité Golf Trophy, le tarif revient à 25CHF par personne, pour 2h de mini-golf, une boisson et des snacks ciné (hot dogs, nachos, popcorn) illimités!\n\nPour plus d'info, n'hésitez pas à me contacter directement sur Whatsapp au +41766837873 (Martin Perrier).\n \n\n
BEGIN:VALARM
ACTION:DISPLAY
TRIGGER:-PT60M
DESCRIPTION:Geneva Mini-Golf Trophy 2023
END:VALARM
END:VEVENT
END:VCALENDAR