BEGIN:VCALENDAR
VERSION:2.0
X-WR-TIMEZONE:Europe/Paris
PRODID:-//Audencia//NONSGML v1.0//EN
CALSCALE:GREGORIAN
BEGIN:VEVENT
SUMMARY:CCI France Chine Event: Insight Tour of DEWU - Decoding the "Youth Power" to understand Chinese Gen Z's consuming trends
DTSTART:20230630T034500
DTEND:20230630T050000
UID:1604
DTSTAMP:20260425T210051
LOCATION:Raffles City, The Bund, East Tower 15F, No. 1089 Dongdaming Road, Hongkou District, Shanghai, China
DESCRIPTION:Introduction\nCCI FRANCE CHINE is very pleased to invite you to visit DEWU Headquarter and participate in the workshop on “Z-Gen Consumption Trend“on Friday, June 30th in Shanghai.\n \nIn recent years, the threshold for what young people find fresh and interesting goods has been continuously increasing. Moreover, post-95s are still one of the most dynamic and potential user groups in China today: with a population of 260 million, their consumption expenditure exceeds RMB 4 trillion, and they account for half of the newly added users in the e-commerce market. The consumption power of young users on DEWU is almost five times higher than the industry average. The potential of the youth market and innovation knows no limits, and DEWU is constantly striving for the next stage of growth in the realm of youth power.\n \nDEWU will share their observations on the current hot topic: Embracing Opportunities, Riding the Waves, Decoding the "Youth Power" to understand Chinese Gen Z's consuming trends.\n \nSchedule:\n \n  9:45am - 10:00am: Reception, Arrival at DEWU Headquarter\n10:00am - 10:30am: Welcome Introduction & Onsite Visit of DEWU Exhibition Room\n10:30am - 11:00am: Workshop on Z-Gen Consummation\n         Speaker: Yvonne Han - DEWU Public Affairs Director\n11:00am -11:30am: Free discussion & Network\n \nDate: Friday 30 June \nTime: 9:45am - 11:30am (Beijing time, GMT+8)\nLanguage: English and Mandarin\nVenue: 北外滩来福士，东塔15F，上海市虹口区东大名路1089号 / Raffles City The Bund, East Tower 15F, No. 1089, Dongdaming Road, Hongkou District, Shanghai\nPlease scan or click here to register\n \n\n\n\n 
BEGIN:VALARM
ACTION:DISPLAY
TRIGGER:-PT60M
DESCRIPTION:CCI France Chine Event: Insight Tour of DEWU - Decoding the "Youth Power" to understand Chinese Gen Z's consuming trends
END:VALARM
END:VEVENT
END:VCALENDAR