BEGIN:VCALENDAR
VERSION:2.0
X-WR-TIMEZONE:Europe/Paris
PRODID:-//Audencia//NONSGML v1.0//EN
CALSCALE:GREGORIAN
BEGIN:VEVENT
SUMMARY:CCI France Chine Event: [HR Working Group] From CSR to ESG: the important role of the HR function in the ongoing transformation
DTSTART:20230627T123000
DTEND:20230627T140000
UID:1603
DTSTAMP:20260425T210147
LOCATION:CCI FRANCE CHINE Shanghai Office
DESCRIPTION:Introduction\n \nCorporate Social Responsibility (CSR) has largely been a “moral” issue. Owners and managers have meant it “right” to show additional responsibility with the additional positive effects on marketing and employee satisfaction.\n \nSince ESG is a relatively “new” field, there are few in the global talent pool with extensive experience in the area. Organizations will have to gather a deep understanding of how ESG affects them to understand which profiles are best suitable to lead and execute their ESG work.\nFor the actual implementation and reporting of ESG issues to become fruitful, it is also highly relative to lift the general understanding of the issue of sustainability in the extended origination.\n \n \n \nAgenda\n \n\n	Regulatory developments relevant for French companies in China and Chinese supply chain partners\n	The competency needs to be derived from regulatory developments.\n	An inspirational case from a company on HR and ESG\n	What are the first steps which should be taken to start the transformation?\n\n \n \nDate: Tuesday 27 June \nTime: 6:30pm to 8:00pm in China\nLanguage: English\nFormat: in-person + Webinar\nVenue: CCI FRANCE CHINE Shanghai Office or Webinar  \n\n\nPlease scan or click here to register\n \n\n
BEGIN:VALARM
ACTION:DISPLAY
TRIGGER:-PT60M
DESCRIPTION:CCI France Chine Event: [HR Working Group] From CSR to ESG: the important role of the HR function in the ongoing transformation
END:VALARM
END:VEVENT
END:VCALENDAR