BEGIN:VCALENDAR
VERSION:2.0
X-WR-TIMEZONE:Europe/Paris
PRODID:-//Audencia//NONSGML v1.0//EN
CALSCALE:GREGORIAN
BEGIN:VEVENT
SUMMARY:CCI France Chine Event: How ChatGPT/AI can help SMEs and how to leverage it for digital asset management?
DTSTART:20230627T120000
DTEND:20230627T140000
UID:1602
DTSTAMP:20260425T205854
LOCATION:CCI FRANCE CHINE Beijing Office
DESCRIPTION:Introduction:\n \nKnowledge assets are the most valuable resources within an organization as they encapsulate expertise, insights and lessons learned.  People have invested tons of effort in creating various knowledge management systems, but most of them have some requirements for their users. With modern AI technology, we think there may be a way to lower the entrance requirement for users, especially for SMEs.\n \nProgram:\n \n\n	Introduction\n	Understanding AI and ChatGPT\n	Usage of ChatGPT/AI\n	Example applications based on ChatGPT\n	Understanding digitalization for business\n	Understanding knowledge management\n	Introduction of KBase\n	Questions & Answers\n\n \nDate: Tuesday 27 June \nTime: 6:00pm to 8:00pm in China\nLanguage: English\nFormat: in-person + Webinar\nVenue: CCI FRANCE CHINE Beijing office or Webinar       \n\n \nAgenda: \n18:00-18:30 Registration\n18:30-19:30 Presentation\n19:30-19:45 Q&A\n19:45-21:00 Cocktail & Networking\nPlease scan or click here to register\n \n\n
BEGIN:VALARM
ACTION:DISPLAY
TRIGGER:-PT60M
DESCRIPTION:CCI France Chine Event: How ChatGPT/AI can help SMEs and how to leverage it for digital asset management?
END:VALARM
END:VEVENT
END:VCALENDAR