BEGIN:VCALENDAR
VERSION:2.0
X-WR-TIMEZONE:Europe/Paris
PRODID:-//Audencia//NONSGML v1.0//EN
CALSCALE:GREGORIAN
BEGIN:VEVENT
SUMMARY:Conference & networking in Toronto, Canada with AAGEF
DTSTART:20230628T180000
DTEND:20230628T210000
UID:1601
DTSTAMP:20260425T210006
LOCATION:CSI Annex Lounge  720 Bathurst St Toronto, ON
DESCRIPTION:Danone : driving business performance and societal impact\n\nDate: Wednesday 28 June 2023\nTime: from 6pm\nVenue: CSI Annex Lounge, 720 Bathurst Street, Toronto ON M5S 2R4\n\nJoin us at the AAGEF (Association des Amis des Grandes Ecoles Françaises) event\n\n"Danone : driving business performance and societal impact" with Eric Maffert (EM Strasbourg Business School), Senior Marketing Director Dairy at Danone Canada. Details and registration here.\n\nToday, Danone Canada is positioned to make a difference in the world. We make food that delights during any moment of the day, with a combined portfolio of beloved, trusted and pioneering brands in dairy; organic dairy; plant-based; and coffee creamers and beverages, there is a Danone product for every Canadian.\n\nOur spirit is ignited as Canada’s largest consumer-facing B CorpTM as we strive towards an even more sustainable future.\n\nEric has been with Danone for over 13 years both in France (as Volvic International Innovation and New Business Director) and Canada and has a long experience in Marketing in Food (Mars, Eckes-Granini).\n\nAgenda :\n\n	6:00pm Networking\n	7:00pm Keynote address and Q&A\n	8:00pm Networking\n\n \n\nRegister here\n \n \n\n\n\nPlease note that tickets are not refundable. The reason is that we need to commit to the venue we booked and cannot get refunded . If you have a last minute issue, you can always transfer your ticket to someone else of your choice. You just need to let us know whme,email, ­university, company and position. Thank you for your understanding.\n\n\nAAGEF Ontario, with over 2,000 executives, is a networking association of French Elite Graduate Schools alumni, living and working in Ontario. We also welcome Ontario-based alumni of Canadian and global Elite Universities. Follow us on LinkedIn.\n\n\nAAGEF Ontario includes alumni from the following Elite French Graduate Schools: Audencia Business School,Arts et Métiers Paris Tech, Ecoles Centrales, EDHEC Business School, EM Lyon, Grenoble Ecole de Management, ENA, ENS Normale Sup, ESSEC Business School, ESCP Business School, INSEAD Business School, Kedge Business School, Mines-Télécom, Neoma Business School, HEC Paris, Ecole  Polytechnique Paris, ENPC Paris Tech, Sciences Po , Supaéro,  Supélec , TBS Business School, Agro , ENSTA Paris Tech, Chimie Paris Tech, ENSAE Paris Tech, Sup Optique Paris Tech, ESPCI Paris Tech, Dauphine, INSA, TBS, Sorbonne, IAE, UTC...\n\nAAGEF Ontario also includes alumni having participated in an exchange with one of AAGEF Ontario graduate schools, Honorary Members and Alumni Friends from other leading international universities.\n \n\n \n\n 
BEGIN:VALARM
ACTION:DISPLAY
TRIGGER:-PT60M
DESCRIPTION:Conference & networking in Toronto, Canada with AAGEF
END:VALARM
END:VEVENT
END:VCALENDAR