BEGIN:VCALENDAR
VERSION:2.0
X-WR-TIMEZONE:Europe/Paris
PRODID:-//Audencia//NONSGML v1.0//EN
CALSCALE:GREGORIAN
BEGIN:VEVENT
SUMMARY:Souper de réseautage tournant à Montréal, Canada
DTSTART:20230613T174500
DTEND:20230613T213000
UID:1600
DTSTAMP:20260425T210539
LOCATION:Délices & Rhums 269 Rue de la Commune Est (Vieux-Montréal, Métro Place d'Armes)
DESCRIPTION:Soirée FAN (French Alumni Network!)\n\nFaites vite!\n\nJ-5 pour s'inscrire à un événement de réseautage très populaire sous forme de souper tournant : à chaque plat on change de table et on rencontre 7 autres convives. Je l'ai déjà fait, vraiment convivial et j'ai rencontré pleins de belles personnes et des contacts avec qui je fais des mandats maintenant!\n\nQuand : mardi 13 juin dès 17h45\nOù : Restaurant Délices & rhums (Vieux Montréal, 269 Rue de la Commune Est, Métro Place d'Armes)\nQui : Une centaine  Anciens des grandes écoles et universités françaises. \n\nVotre ambassadeur Loïc\n \nInscription & détails ici\n \n\n
BEGIN:VALARM
ACTION:DISPLAY
TRIGGER:-PT60M
DESCRIPTION:Souper de réseautage tournant à Montréal, Canada
END:VALARM
END:VEVENT
END:VCALENDAR