BEGIN:VCALENDAR
VERSION:2.0
X-WR-TIMEZONE:Europe/Paris
PRODID:-//Audencia//NONSGML v1.0//EN
CALSCALE:GREGORIAN
BEGIN:VEVENT
SUMMARY:International Day: Alumni Round Table, Audencia Atlantic Campus, Nantes
DTSTART:20180222T124500
DTEND:20180222T134500
UID:160
DTSTAMP:20260425T205954
LOCATION:Audencia Atlantic Campus, Nantes
DESCRIPTION:22nd February is International Day at Audencia and the theme is "Careers outside your home country".\n\nThroughout the afternoon, students will have the opportunity to attend workshops focusing on international topics.\n\nAudencia is delighted to welcome alumni back to the school who are looking forward to sharing their international experiences and advice. Join them at 12:45 in auditorium A54 where they will share advice and talk about their current roles and how their international careers began.\n \n\nRegister for the round table conference on Tomorrow\nCheck your Tomorrow agenda for exact times and locations of all sessions
BEGIN:VALARM
ACTION:DISPLAY
TRIGGER:-PT60M
DESCRIPTION:International Day: Alumni Round Table, Audencia Atlantic Campus, Nantes
END:VALARM
END:VEVENT
END:VCALENDAR