BEGIN:VCALENDAR
VERSION:2.0
X-WR-TIMEZONE:Europe/Paris
PRODID:-//Audencia//NONSGML v1.0//EN
CALSCALE:GREGORIAN
BEGIN:VEVENT
SUMMARY:Networking in Barcelona, Spain
DTSTART:20170628T183000
DTEND:20170628T210000
UID:16
DTSTAMP:20260425T205731
LOCATION:IESE Business School Aula Magna, North Campus Barcelona, C/ Arnus y Garí, 3-7, 08034 Barcelona Spain
DESCRIPTION:AMBA, the Association of MBAs, is organising a networking event.\n\nJoin them in Barcelona, Spain, on 28 June 2017 for an evening of networking and relationship-building with students and alumni of AMBA-accredited programmes.\n\nEvent Timetable: \n18.30 – 19.00   Registration Opens\n19.00 – 20.00   AMBA Membership Presentation\n20.00 – 21.00   Networking and Refreshments\n\nLocation: IESE Business School\nDate: 28 June 2017\nTime: 18.00 to 21.00\n\nAddress: Aula Magna\nNorth Campus Barcelona\nC/ Arnus y Garí, 3-7\n08034 – Barcelona – Spain\n\n This event is aimed at alumni of AMBA-accredited programmes. At Audencia, these programmes are: Executive MBA, MBA in Responsible Management and Master in Management (Grande Ecole Programme). The event is free for AMBA members but registration is required. Registering as an alumus/alumna of an AMBA-accredited programme takes only a few minutes.\nGo to www.mbaworld.com/communitysignup \n\n	complete your personal details\n	select ‘Graduate’ from the ‘I am a’ drop down\n	select your Business School\n	enter the following access key: G25912\n\nOnce you have registered as an AMBA alum, you can register for the event.\n\nIf you have any questions about registering, please contact the AMBA Membership Team who will be happy to help.\n 
BEGIN:VALARM
ACTION:DISPLAY
TRIGGER:-PT60M
DESCRIPTION:Networking in Barcelona, Spain
END:VALARM
END:VEVENT
END:VCALENDAR