BEGIN:VCALENDAR
VERSION:2.0
X-WR-TIMEZONE:Europe/Paris
PRODID:-//Audencia//NONSGML v1.0//EN
CALSCALE:GREGORIAN
BEGIN:VEVENT
SUMMARY:Club Activités Culturelles : Visite guidée - Les Salons de l'Hôtel de la Marine
DTSTART:20231215T190000
DTEND:20231215T213000
UID:1598
DTSTAMP:20260425T211127
LOCATION:Hôtel de la Marine Place de la Concorde Paris
DESCRIPTION:\nLe Club Activités Culturelles organise une visite guidée "Les salons de l'Hôtel de la Marine​" le vendredi 15 décembre à 19h15.\n \nAprès 4 années de travaux, l'ancien Garde-Meuble de la Couronne retrouve ses meubles, ses tapisseries et ses tableaux. Désormais ouvert au public, il nous permet de revivre ce qu'était le Trésor Royal et ses meubles sous l'Ancien Régime. Il permet aussi de redécouvrir un hôtel Louis XVI magnifiquement restauré donnant vue sur la Concorde.\n\nAprès cette visite, nous ferons un tour des illuminations de la Rue de la Paix qui finira par un verre d'amitié.\n\n \n\n\nPlaces limitées, inscriptions obligatoires !\n\n\n\nQuestions : nushad.merchant@audencia.com
BEGIN:VALARM
ACTION:DISPLAY
TRIGGER:-PT60M
DESCRIPTION:Club Activités Culturelles : Visite guidée - Les Salons de l'Hôtel de la Marine
END:VALARM
END:VEVENT
END:VCALENDAR