BEGIN:VCALENDAR
VERSION:2.0
X-WR-TIMEZONE:Europe/Paris
PRODID:-//Audencia//NONSGML v1.0//EN
CALSCALE:GREGORIAN
BEGIN:VEVENT
SUMMARY:CCI France Chine Event: [Club Agroalimentaire] Avancées dans le secteur agricole et agroalimentaire lors de la visite présidentielle
DTSTART:20230613T100000
DTEND:20230613T113000
UID:1596
DTSTAMP:20260425T211355
LOCATION:CCI FRANCE CHINE Shanghai, Pékin, Canton
DESCRIPTION:Agenda\n\n\n	Point sur les avancées lors de la visite présidentielle pour le secteur agroalimentaire.\n	Situation économique des entreprises suite à la visite présidentielle.\n	RETEX sur la délégation de PME-ETI en marge de la visite présidentielle\n	Panorama et perspectives de la relation d’affaires franco-chinoise \n\n\nProgramme \n\n15:45 - 16:00 : Accueil des participants\n\n16:00 - 17:00 : Conférence et Webinaire\n\n17:00 - 17:30 : Questions & Réponses\n\nIntervenants\n\n\n	François BLANC\n\n\n      Conseiller agricole Ambassade de France en Chine\n\n\n	Pascal GONDRAND\n\n\n      Directeur Chine Business France\n\n\n	Bertrand QUEVREMONT\n\n\n      Directeur pôle Agrotech Chine Business France\n\n\n	Sybille DUBOIS-FONTAINE\n\n\n      Directrice générale Comité France-Chine\n\nCoordinateur\n\nAlban RENAUD\nAvocat associé\nAdaltys lawfirm\n \n\nDate : Mardi 13 Juin\n\nHeure : 16:00 - 17:30 (Heure de Chine, GMT+8)\n\nLangue : Français\n\nFormat: Présentiel CCI FRANCE CHINE Shanghai, Pékin, Canton + Webinaire (Les informations de connexion seront communiquées par email après inscription)\n\nScannez the code QR ci-dessous ou cliquer ici\n\n
BEGIN:VALARM
ACTION:DISPLAY
TRIGGER:-PT60M
DESCRIPTION:CCI France Chine Event: [Club Agroalimentaire] Avancées dans le secteur agricole et agroalimentaire lors de la visite présidentielle
END:VALARM
END:VEVENT
END:VCALENDAR