BEGIN:VCALENDAR
VERSION:2.0
X-WR-TIMEZONE:Europe/Paris
PRODID:-//Audencia//NONSGML v1.0//EN
CALSCALE:GREGORIAN
BEGIN:VEVENT
SUMMARY:Webinar: How to navigate challenges, crises, and rapid marketplace change
DTSTART:20230621T140000
DTEND:20230621T150000
UID:1595
DTSTAMP:20260425T210732
LOCATION:
DESCRIPTION:AMBA webinar "How to navigate challenges, crises and rapid marketplace change"\n\nDate: Wednesday 21 June 2023\nTime: 14:00-15:00 Paris time\n\n\nThe AMBA & BGA Membership team are delighted to invite you to attend "How to navigate challenges, crises, and rapid marketplace change" with James Burstall. Book your place and learn more about our topic & speaker below.\n\nAbout the webinar\nIn this webinar, James will share his hard-fought lessons, learnings, and insights as a leader of a business headquartered in the UK and US, showing how “The Flexible Method” has helped the group navigate challenges, crises and rapid marketplace change to emerge stronger and fitter than ever before.\n\nWith examples from across different business sectors throughout the world, the webinar will cover a number of themes from his recent book including how flexibility must be built into the DNA of your business to the importance of values, kindness and putting people first in business. \n\nWith James’ view that the world is now in an era of permacrisis, the webinar will discuss why crises can be good for business and how to prepare for them, as they present unprecedented opportunities for future growth.\n\n \nBOOK YOUR PLACE FOR THE WEBINAR\n \nAbout the speaker\nEntrepreneur, producer and author James Burstall is the CEO of Argonon, one of the UK’s largest independent global production groups headquartered in London, Los Angeles, New York, Oklahoma, Glasgow and Liverpool. The group consists of nine production companies producing hundreds of hours of content annually across all genres for broadcasters, streamers and brands including The Masked Singer UK (ITV1), Hard Cell (Netflix), Worzel Gummidge(BBC One), Dispatches (Channel 4) and Attenborough and the Mammoth Graveyard (BBC One), and content for brands including McDonalds, Amazon and American Express. The group has won over 125 international awards including Emmys, BAFTAs and RTS Awards. \nPrior to Argonon, Burstall was CEO of Leopard Films, executive producing long-running series, formats and award-winning dramas for global broadcasters.\nJames Burstall’s new leadership book, The Flexible Method, Prepare to Prosper in the Next Global Crisis is published in the UK in March and in the US in July. \n\nDid you graduate from an AMBA-accredited programme at Audencia?\nThis webinar is accessible to students or alumni of an AMBA-accredited programme at Audencia, i.e., Executive MBA, EuroMBA, Full-Time MBA or Master in Management (Grande Ecole Programme), but registration is required. Registering as an alum of an AMBA-accredited programme takes only a few minutes.\n\nThis event is free for AMBA members to attend but registration is required using the link above.\n \n
BEGIN:VALARM
ACTION:DISPLAY
TRIGGER:-PT60M
DESCRIPTION:Webinar: How to navigate challenges, crises, and rapid marketplace change
END:VALARM
END:VEVENT
END:VCALENDAR