BEGIN:VCALENDAR
VERSION:2.0
X-WR-TIMEZONE:Europe/Paris
PRODID:-//Audencia//NONSGML v1.0//EN
CALSCALE:GREGORIAN
BEGIN:VEVENT
SUMMARY:Kasumigaura Lake Cycling
DTSTART:20230601T110000
DTEND:20230601T110000
UID:1591
DTSTAMP:20260425T210603
LOCATION:Lac Kasumigaura, Préfecture d'Ibaraki, Japon
DESCRIPTION:Dear alumni in Japan,\n\nFor the month of May, we propose you a cycling activity around the lake of Kasumigaura, which is the second biggest lake in Japan (90 km !!) 
BEGIN:VALARM
ACTION:DISPLAY
TRIGGER:-PT60M
DESCRIPTION:Kasumigaura Lake Cycling
END:VALARM
END:VEVENT
END:VCALENDAR