BEGIN:VCALENDAR
VERSION:2.0
X-WR-TIMEZONE:Europe/Paris
PRODID:-//Audencia//NONSGML v1.0//EN
CALSCALE:GREGORIAN
BEGIN:VEVENT
SUMMARY:Virtual coaching sessions, Singapore
DTSTART:20230608T120000
DTEND:20230608T133000
UID:1590
DTSTAMP:20260425T211243
LOCATION:
DESCRIPTION:CoachBase, la plateforme de coaching en ligne lancée début 2023, organise un événement auprès de la communauté d'Alumni de Singapour, à l'occasion duquel sont proposées des sessions individuelles de 30 minutes de coaching exécutif. \n\nDate : jeudi 8 juin 2023 à 18h, heure de Singapour (virtuel)\n\nAgenda :\n•    Qu'est-ce que le coaching et comment puis-je en bénéficier ? (30 minutes)\n•    Coaching individuel en sessions privées dans des salles de discussion Zoom (30 minutes)\n•    Partage d'expérience et e-networking (30 minutes)\n \n INSCRIPTION\n\nCe programme offre une opportunité exceptionnelle aux alumni de bénéficier de l'expertise de nos coachs professionnels. Ils auront ainsi l'occasion d'échanger sur leurs aspirations professionnelles et les défis auxquels ils font face dans leur carrière.\n\nCoachBase est une plateforme de coaching en ligne internationale, nos coachs sont présents dans de nombreux pays.\n\n \n\n\nAurélie Prigent\nAmbassadrice Audencia Alumni Singapore\nCo-Founder & CEO at CoachBase
BEGIN:VALARM
ACTION:DISPLAY
TRIGGER:-PT60M
DESCRIPTION:Virtual coaching sessions, Singapore
END:VALARM
END:VEVENT
END:VCALENDAR