BEGIN:VCALENDAR
VERSION:2.0
X-WR-TIMEZONE:Europe/Paris
PRODID:-//Audencia//NONSGML v1.0//EN
CALSCALE:GREGORIAN
BEGIN:VEVENT
SUMMARY:Rejoindre une start-up : est-ce fait pour moi ?
DTSTART:20180215T193000
DTEND:20180215T203000
UID:159
DTSTAMP:20260425T205847
LOCATION:Ignition Program 37 rue de Ponthieu, Paris
DESCRIPTION:Ignition Program est le premier programme de recrutement et d'accélération de hauts potentiels dans les startups les plus prometteuses pour créer de la croissance.\n \nIgnition Program est né pour rapprocher ces deux univers : des brillants tempéraments entrepreneurs à la recherche de responsabilités et d’impact, et des startups à fort potentiel à la recherche de talents pour se développer. \nPour en savoir plus : ignition-program.com\n \nPourquoi venir dans nos locaux ?\nSuite à notre expérience auprès de +600 startups, nous aborderons toutes les questions clés des carrières en startup : quel est le quotidien en startup vs grands groupes ? quels salaires ? quels sont les métiers et les perspectives de carrières ? où trouver les opportunités ? 
BEGIN:VALARM
ACTION:DISPLAY
TRIGGER:-PT60M
DESCRIPTION:Rejoindre une start-up : est-ce fait pour moi ?
END:VALARM
END:VEVENT
END:VCALENDAR