BEGIN:VCALENDAR
VERSION:2.0
X-WR-TIMEZONE:Europe/Paris
PRODID:-//Audencia//NONSGML v1.0//EN
CALSCALE:GREGORIAN
BEGIN:VEVENT
SUMMARY:Conference in New York, USA with AAGEF
DTSTART:20230621T190000
DTEND:20230621T220000
UID:1589
DTSTAMP:20260425T210611
LOCATION:Burberry 131 Spring Street New York NY 10012
DESCRIPTION:Luxury brands: How to engage with the next generation of consumers\nJoin us for an exclusive panel discussion with renowned leaders about how luxury brands engage with the next generation of consumers.\n\nDate and time: Wednesday 21 June, 7-10pm\nLocation: Burberry 131 Spring Street New York, NY 10012 \n\nAgenda:\n19:00 - 21:00 Arrival of attendees, Introduction, Panel and Q&A\n21:00 - 22:00 Cocktail dinner\n\nOn the initiative of the ESCP NYC Delegation, the Association des Amis des Grandes Écoles Françaises (AAGEF) is pleased to invite you to an exclusive Luxury Conference, engaging a panel discussion with distinguished speakers, and promising opportunities to network with industry professionals and fellow students from the French major Grandes Écoles.\n\nAAGEF is honored to announce the following speakers:\n\n	President Boucheron Americas: Philippe Galtié (ESCP Alumni)\n	President Burberry Americas: Thibaut Perrin-Faivre (NEOMA Alumni)\n	President Vilebrequin Americas: Emmanuele Vinciguerra (ESSEC Alumni)\n\nThe panel will be moderated by Erwan Rambourg (EDHEC Alumni), Author of the book “Future Luxe”.\n \n\n\nThis panel will explore the new customer expectations coming from the new generations, Millennials and Gen-Z, including:\n\n	Meeting Sustainability & ESG goals for value-based shoppers\n	Accelerating innovation while maintaining brand equity\n	Offering seamless multi-channel customer experiences\n	Entering the Resale market against Fast Fashion wastefulness\n	Integrating diversity and inclusion, while maintaining an image of exclusivity\n\n\nThe panel will be followed by a cocktail dinner with the finest French canapés by Angelina Paris NYC, fine organic Champagne by Telmont and Evian waters.\n \nGET TICKETS\n\nAs you may imagine, places are limited so please register early on a first come first served basis!\nA ticket includes the panel and the food & beverages.\n\nT﻿hank you,\nA﻿AGEF Community\n\n\nAAGEF is a not-for-profit organization that brings together the U.S. Alumni Clubs of the following leading major French Grandes Écoles: Arts et Métiers ParisTech, Audencia, Centrale Lyon,  Centrale Paris,  EDHEC,  EM Lyon,  ENA,  ENSAE,  ESCP/EAP,  ESSEC,  HEC, HEC JF,  INSEAD,  Mines ParisTech, Normale Sup, Ponts & Chaussées,  Polytechnique,  Sciences-Po,  Supaero, Supelec and Telecom ParisTech.\n 
BEGIN:VALARM
ACTION:DISPLAY
TRIGGER:-PT60M
DESCRIPTION:Conference in New York, USA with AAGEF
END:VALARM
END:VEVENT
END:VCALENDAR