BEGIN:VCALENDAR
VERSION:2.0
X-WR-TIMEZONE:Europe/Paris
PRODID:-//Audencia//NONSGML v1.0//EN
CALSCALE:GREGORIAN
BEGIN:VEVENT
SUMMARY:Visite & afterwork, Geneva, Switzerland
DTSTART:20230614T190000
DTEND:20230614T220000
UID:1588
DTSTAMP:20260425T211356
LOCATION:Meeting point: Place du Molard, Geneva
DESCRIPTION:Join the Geneva chapter for a (short!) walking tour on the history of Geneva - in French\n\nRetrouvons-nous à 19h sur la Place du Molard pour une visite sur “l'Histoire de Genève en bref” qui se terminera à 20h30 devant l'Hôtel-de-Ville dans la Vieille-Ville.\n\nLa rencontre se poursuivra avec un verre de l'amitié (lieu à confirmer!)\n\nLes places pour la visite sont limitées, inscrivez-vous dès maintenant!\n
BEGIN:VALARM
ACTION:DISPLAY
TRIGGER:-PT60M
DESCRIPTION:Visite & afterwork, Geneva, Switzerland
END:VALARM
END:VEVENT
END:VCALENDAR