BEGIN:VCALENDAR
VERSION:2.0
X-WR-TIMEZONE:Europe/Paris
PRODID:-//Audencia//NONSGML v1.0//EN
CALSCALE:GREGORIAN
BEGIN:VEVENT
SUMMARY:Afterwork à Montréal, Canada
DTSTART:20230524T180000
DTEND:20230524T200000
UID:1587
DTSTAMP:20260425T210655
LOCATION:La Piscine 914 Rue Notre-Dame Ouest Montréal, QC H3C 1J9
DESCRIPTION:Venez à la rencontre de la délégation nantaise en présence d’élus, entreprises, acteurs économiques, académiques, culturels et le réseau des Audacieux de Nantes ! Profitons ensemble de ce moment pour échanger, partager vos expériences et réseauter avec l’écosystème nantais et québécois présent.\n\n6@8 le mercredi 24 mai à la Piscine pour la venue d'une délégation nantaise de plus de 60 personnes du 22 au 26 mai prochain dans le cadre de l’Année de l’Innovation France-Québec pour renforcer les coopérations existantes et en identifier de nouvelles sur différentes thématiques : culture, numérique responsable, ville intelligente et durable, santé globale, industries culturelles et créatives, enseignement supérieur et recherche …\n \nINSCRIPTION\n\nPour ma part, j'y serai!\nLoïc, votre ambassadeur\n
BEGIN:VALARM
ACTION:DISPLAY
TRIGGER:-PT60M
DESCRIPTION:Afterwork à Montréal, Canada
END:VALARM
END:VEVENT
END:VCALENDAR