BEGIN:VCALENDAR
VERSION:2.0
X-WR-TIMEZONE:Europe/Paris
PRODID:-//Audencia//NONSGML v1.0//EN
CALSCALE:GREGORIAN
BEGIN:VEVENT
SUMMARY:Gala Audencia Bachelor x Audencia Alumni Bachelor
DTSTART:20230624T193000
DTEND:20230625T040000
UID:1586
DTSTAMP:20260425T211410
LOCATION:La Terrasse de L'Ile, 21 Quai des Antilles, 44200 Nantes
DESCRIPTION:\n\nChers alumni,\n\n\n\nLes étudiants de troisième année du Bachelor in Management Audencia\nont le plaisir de vous convier à leur traditionnel gala de fin d'année\nle samedi 24 juin 2023\nà partir de 19h30\nsur la Terrasse de l'Ile à Nantes.*\n\n\nA plaisir de vous y retrouver !\n\n \n\n*Entrée sur inscription uniquement, tenue de soirée exigée
BEGIN:VALARM
ACTION:DISPLAY
TRIGGER:-PT60M
DESCRIPTION:Gala Audencia Bachelor x Audencia Alumni Bachelor
END:VALARM
END:VEVENT
END:VCALENDAR