BEGIN:VCALENDAR
VERSION:2.0
X-WR-TIMEZONE:Europe/Paris
PRODID:-//Audencia//NONSGML v1.0//EN
CALSCALE:GREGORIAN
BEGIN:VEVENT
SUMMARY:L'AFTER du Concours Audace [Entrepreneurs]
DTSTART:20230524T190000
DTEND:20230524T223000
UID:1584
DTSTAMP:20260425T211127
LOCATION:Audencia - Atlantic campus 8, route de la Jonelière 44300 Nantes
DESCRIPTION: \n\nINSCRIVEZ-VOUS en cliquant ici...\n\n\n\nChers amis entrepreneurs, \nChers Membres de la Communauté Chapter Nantes - Pays de la Loire, \n\nA l'occasion de la grande soirée de Remise des Prix du Concours Audace du mercredi 24 mai prochain, les communautés du Club Entrepreneurs et du Chapter Nantes - Pays de la Loire ont le plaisir de vous convier à un afterwork réseautage lors de cette soirée,\n \n\nMercredi 24 mai de 19h à 22h30\nà Audencia - Atlantic Campus\n\n\nL'objectif de cette soirée : fédérer l'ensemble des entrepreneurs et porter à la connaissance du plus grand nombre la dynamique du Pôle Entrepreneuriat tout au long de l'année.\n\n\nAu programme : \n- 18h30 : Accueil\n- 19h : Remise des prix\n- 20h30 : Cocktail Apéritif dinatoire & Réseautage \n\nSont conviés :\nL'ensemble des membres de la Communauté entrepreneuriale Audencia (membres de ACE, d'Enact'us, de lIncubateur, du Club Entrepreneurs Audencia Alumni), les étudiants Audencia de la Majeure Entrepreneuriale, et tous les Etudiants et Alumni portant un intérêt pour la thématique entrepreneuriale ou de l'investissement.\n\n \nPour une organisation optimale auprès du traiteur, afin de viser au plus juste, nous avons besoin de vos retours définitifs avant le mercredi 17 mai.\n\n\nNous vous attendons nombreux, alors parlez-en partout autour de vous ! \nA très vite !\nLes Ambassadeurs du Club Entrepreneurs et du Chapter Nantes\n\n \n
BEGIN:VALARM
ACTION:DISPLAY
TRIGGER:-PT60M
DESCRIPTION:L'AFTER du Concours Audace [Entrepreneurs]
END:VALARM
END:VEVENT
END:VCALENDAR