BEGIN:VCALENDAR
VERSION:2.0
X-WR-TIMEZONE:Europe/Paris
PRODID:-//Audencia//NONSGML v1.0//EN
CALSCALE:GREGORIAN
BEGIN:VEVENT
SUMMARY:Afterwork in Berlin, Germany
DTSTART:20230613T180000
DTEND:20230613T210000
UID:1583
DTSTAMP:20260425T210610
LOCATION:Prater (Prenzlauerberg) Kastanienallee 7-9 10435 Berlin
DESCRIPTION:Uwe Supper sera à Berlin le mardi 13 juin et pour cette occasion il y aura naturellement un afterwork!\n\nPour le lieu, on part sur un grand classique et on se retrouvera au Prater (Prenzlauerberg) Kastanienallee 7-9, 10435 Berlin à partir de 18h.\n\nN'hésitez pas à me contacter si vous avez des questions.\n\nBonne journée à tous et j'espère vous y voir nombreux!\n\nVotre ambassadeur, Paul Lemaître\n \n
BEGIN:VALARM
ACTION:DISPLAY
TRIGGER:-PT60M
DESCRIPTION:Afterwork in Berlin, Germany
END:VALARM
END:VEVENT
END:VCALENDAR