BEGIN:VCALENDAR
VERSION:2.0
X-WR-TIMEZONE:Europe/Paris
PRODID:-//Audencia//NONSGML v1.0//EN
CALSCALE:GREGORIAN
BEGIN:VEVENT
SUMMARY:CLUB ACTIVITES CULTURELLES | Visite guidée - Musée atelier Rodin
DTSTART:20240120T110000
DTEND:20240120T123000
UID:1582
DTSTAMP:20260425T211128
LOCATION:Musée Rodin Rue de Varenne Paris
DESCRIPTION:Le Club Activités Culturelles organise une visite guidée "Musée Rodin​" le samedi 20 janvier à 11h. \n\nMonstre sacré de la sculpture du XIXe siècle, Rodin révolutionne cet art et se démarque de l'art académique. Son immense culture littéraire le rattache surtout à la poésie comme celle de Dante. Mais il entend en faire une figure universelle : aussi le poète devient le Penseur, l'Age d'Airain, l'esclave libéré, Beethoven, le génie universel...Nous évoquerons son art et aussi sa vie privée et notamment ses rapports avec Camille Claudel.\n \n\nPlaces limitées, inscriptions obligatoires !\n\n\n\nQuestions : nushad.merchant@audencia.com
BEGIN:VALARM
ACTION:DISPLAY
TRIGGER:-PT60M
DESCRIPTION:CLUB ACTIVITES CULTURELLES | Visite guidée - Musée atelier Rodin
END:VALARM
END:VEVENT
END:VCALENDAR