BEGIN:VCALENDAR
VERSION:2.0
X-WR-TIMEZONE:Europe/Paris
PRODID:-//Audencia//NONSGML v1.0//EN
CALSCALE:GREGORIAN
BEGIN:VEVENT
SUMMARY:Club Activités Culturelles : Visite guidée - Musée atelier Gustave Moreau
DTSTART:20231014T110000
DTEND:20231014T123000
UID:1581
DTSTAMP:20260425T211355
LOCATION:Musée Gustave Moreau Rue Catherine de la Rochefoucauld Paris
DESCRIPTION:\nLe Club Activités Culturelles organise une visite guidée du Musée Gustave Moreau, le samedi 14 octobre à 11h. \n \nCet atelier d’artiste à Paris nous plonge dans l’univers de la Nouvelle Athènes. En effet, ce quartier accueillait à l’époque romantique Georges Sand, Chopin, Delacroix et de nombreux autres artistes. Aujourd’hui l’atelier du peintre est dans son jus. Ce maître du symbolisme nous a laissé des toiles sublimes illustrant avec verve et emphase les thèmes antiques et littéraires. Ainsi, peut-on découvrir dans cet atelier d’artiste le vaisseau de Jason, la danse de Salomé ou le port de Carthage dans des toiles accrochées au mur selon la tradition du XIXe siècle.\n\n\n\nPlaces limitées, inscriptions obligatoires !\n\n\n\nQuestions : nushad.merchant@audencia.com\n\n\n 
BEGIN:VALARM
ACTION:DISPLAY
TRIGGER:-PT60M
DESCRIPTION:Club Activités Culturelles : Visite guidée - Musée atelier Gustave Moreau
END:VALARM
END:VEVENT
END:VCALENDAR