BEGIN:VCALENDAR
VERSION:2.0
X-WR-TIMEZONE:Europe/Paris
PRODID:-//Audencia//NONSGML v1.0//EN
CALSCALE:GREGORIAN
BEGIN:VEVENT
SUMMARY:Club Activités Culturelles : Visite guidée - Saint Sulpice Da Vinci Code
DTSTART:20231202T110000
DTEND:20231202T123000
UID:1580
DTSTAMP:20260425T210732
LOCATION:Église Saint-Sulpice Rue Palatine 75006 Paris
DESCRIPTION:Le Club Activités Culturelles organise une visite guidée "Saint Sulpice Da Vinci Code​" le samedi 2 décembre à 11h. \n\nLe roman de Dan Brown s'inspire du livre l'Enigme sacré qui rassemble le mystère des Templiers, celui des Cathares, de Rennes-le-Château, du Prieuré de Sion et de la descendance du Christ. Dans ce cadre, les héros du roman sont à la recherche d'un objet mystérieux et secret qui serait caché dans l'église saint Sulpice. Enquête dans une des plus belles églises de Paris et son quartier.\n\nPlaces limitées, inscriptions obligatoires !\n\n\n\nQuestions : nushad.merchant@audencia.com\n\n 
BEGIN:VALARM
ACTION:DISPLAY
TRIGGER:-PT60M
DESCRIPTION:Club Activités Culturelles : Visite guidée - Saint Sulpice Da Vinci Code
END:VALARM
END:VEVENT
END:VCALENDAR