BEGIN:VCALENDAR
VERSION:2.0
X-WR-TIMEZONE:Europe/Paris
PRODID:-//Audencia//NONSGML v1.0//EN
CALSCALE:GREGORIAN
BEGIN:VEVENT
SUMMARY:Private screening of "The Weekend Sailor" in New York, USA
DTSTART:20180122T180000
DTEND:20180122T220000
UID:158
DTSTAMP:20260425T205956
LOCATION:Tribeca Film Center 375 Greenwich Street New York, 10013
DESCRIPTION:Join us to watch the incredible story of “The Weekend Sailor”, a documentary about the first crewed sailing race around the world, the Whitbread known today as the  Volvo Ocean Race.\n \n\nDrinks will follow at Tribeca Grill, cash bar with diner as an option.\n \n\nWe are also happy to announce that the Volvo Ocean Race Newport team is coming down for a short pre-screening presentation and that Musto is sending cool sailing gears to raffle to support the event.\n\n \n\nWhere and When ?\n\nThe screening is on Monday January 22 at the Tribeca Film Center, 375 Greenwich Street, New York, 10013.\n\nDoors open at 6:00PM.\n \n\nTO BUY A TICKET & REGISTER\nFind out more here!
BEGIN:VALARM
ACTION:DISPLAY
TRIGGER:-PT60M
DESCRIPTION:Private screening of "The Weekend Sailor" in New York, USA
END:VALARM
END:VEVENT
END:VCALENDAR