BEGIN:VCALENDAR
VERSION:2.0
X-WR-TIMEZONE:Europe/Paris
PRODID:-//Audencia//NONSGML v1.0//EN
CALSCALE:GREGORIAN
BEGIN:VEVENT
SUMMARY:Audencia Homecoming Day 2023
DTSTART:20231125T180000
DTEND:20231126T020000
UID:1579
DTSTAMP:20260425T210655
LOCATION:Audencia, 8 Route de la Jonelière, Nantes, France
DESCRIPTION:\n\n\nChers diplômés,\n\nIl y a un an, 15 ans, 50 ans, vous acheviez votre parcours à Audencia, qui était peut-être encore SciencesCom, EAC, EGC, IPAC ou Sup de Co Nantes.\n\nPour célébrer cet anniversaire comme il se doit, nous avons le plaisir de vous inviter à la 4e édition de Audencia Homecoming Day, un événement annuel de retrouvailles et de célébration des anniversaires de promotion de tous les programmes de l'école.\n \n\n\n\n\nNous comptons sur votre participation nombreuse pour faire de votre promotion la plus représentée ! \n\nPour cette soirée cinéma, sortez votre plus belle tenue pour fouler le tapis rouge ! Et pour les plus audacieux, déguisez-vous en votre personnage de cinéma préféré...\n\nAu plaisir de tous vous retrouver, le samedi 25 novembre à Atlantic campus (route de la Jonelière à Nantes), pour des retrouvailles conviviales et une soirée au thème du cinéma.\n\n*Pour chaque participation, Audencia Alumni s’engage à reverser 10€ à la Fondation Audencia.\n\n \n\n\n\n\n\nDear graduates,\n\n\nIt has been 1 year, 15 years, or even 50 years, since you finished your studies at Audencia, which was maybe known as SciencesCom, EGC, IPAC, EAC or Sup de Co Nantes at the time.\n\n \n\nTo celebrate this anniversary, we are pleased to invite you to the 4th edition of Audencia Homecoming Day, an annual reunion and celebration for all the school’s programmes.\n \n\n\n\n\nWe are therefore counting on your numerous participation to make your promotion the most represented! \n\nFor this special occasion, throw on your smartest outfit and hit the red carpet! For the more daring, why not dress up as your favourite film character?\n\nLooking forward to seeing you on Saturday, 25 November on Atlantic campus (Route de la Jonelière), for long-due reunions and a cinema-themed evening party. \n\n*For each participation, Audencia Alumni will donate €10 to the Audencia Foundation.
BEGIN:VALARM
ACTION:DISPLAY
TRIGGER:-PT60M
DESCRIPTION:Audencia Homecoming Day 2023
END:VALARM
END:VEVENT
END:VCALENDAR