BEGIN:VCALENDAR
VERSION:2.0
X-WR-TIMEZONE:Europe/Paris
PRODID:-//Audencia//NONSGML v1.0//EN
CALSCALE:GREGORIAN
BEGIN:VEVENT
SUMMARY:Conférence Inspirante Audencia Alumni : L'avenir des Industries Culturelles et Créatives
DTSTART:20230608T193000
DTEND:20230608T230000
UID:1577
DTSTAMP:20260425T211558
LOCATION:Centre Pompidou 75004 Paris
DESCRIPTION: \n\nAudencia Alumni vous donne rendez-vous le jeudi 8 juin à 19h30 au Centre Pompidou, pour sa Conférence Inspirante annuelle à Paris.\n\nCette année, nous vous proposons d'aborder la thématique de la culture, et plus précisément la question de l'avenir des Industries Culturelles et Créatives.\n\nPour cet événement, nous avons le plaisir de vous partager :\n\nKeynote speaker :\n\n\nNathalie Bondil, Directrice du musée et des expositions à l'Institut du monde arabe\n\n\n\nIntervenants de la table ronde :\n\n\nDonatienne Hantin Charbaut (GE 1987 & SciencesCom 1988), Co-fondatrice et co-directrice @Festival Jazz à Saint-Germain-des-Prés Paris\n\n\n\n\n\nEmmanuel Jacomet (GE 2012), Producer @Mediawan kids & family\n\n\n\n\n\nPierre Reinisch (GE 2013), Head of International development & Consulting Manager @BeauxArts&Cie\n\n\n\n\nCelle-ci sera animée par\n\n\nConstance d’Iliers (diplômée de l’Ecole du Louvre (passée par Audencia en 2016)), Responsable de projet et médiation numériques @Paris Musées\n\n\nNous aurons la joie de vous recevoir à l'issue de la conférence pour un cocktail et des animations.\n\nAu programme :\n\n\n	18h30-19h30 : Visite de l'exposition temporaire Norman Foster\n\n	\n		40 places, inscriptions auprès de Sixtine Pontroué (spontroue@audencia.com)\n	\n	\n	19h30-20h00 : Accueil et rafraichissement\n	20h00-21h30 : Prise de parole par la direction d’Audencia & Conférence\n	21h30-21h45 : Q&A\n	21h45-23h00 : Cocktail & Networking\n\n\n \n\nPlaces limitées & Inscriptions obligatoires\n\n1/ pour la visite de l'expo Norman Foster : réservez votre place auprès de Sixtine Pontroué (spontroue@audencia.com)\n\n2/ pour la conférence : connectez-vous à votre compte Together pour vous inscrire\n \n\n\n \n\nQuestions ? : nushad.merchant@audencia.com​
BEGIN:VALARM
ACTION:DISPLAY
TRIGGER:-PT60M
DESCRIPTION:Conférence Inspirante Audencia Alumni : L'avenir des Industries Culturelles et Créatives
END:VALARM
END:VEVENT
END:VCALENDAR