BEGIN:VCALENDAR
VERSION:2.0
X-WR-TIMEZONE:Europe/Paris
PRODID:-//Audencia//NONSGML v1.0//EN
CALSCALE:GREGORIAN
BEGIN:VEVENT
SUMMARY:Webinar : La gestion de projet au coeur du métier du conseil
DTSTART:20230510T183000
DTEND:20230510T193000
UID:1574
DTSTAMP:20260425T211400
LOCATION:
DESCRIPTION:\n\n\n\n\nInscrivez-vous par ici
BEGIN:VALARM
ACTION:DISPLAY
TRIGGER:-PT60M
DESCRIPTION:Webinar : La gestion de projet au coeur du métier du conseil
END:VALARM
END:VEVENT
END:VCALENDAR