BEGIN:VCALENDAR
VERSION:2.0
X-WR-TIMEZONE:Europe/Paris
PRODID:-//Audencia//NONSGML v1.0//EN
CALSCALE:GREGORIAN
BEGIN:VEVENT
SUMMARY:CONFÉRENCE DON'T WORRY, BE "CONTENT"
DTSTART:20180201T123000
DTEND:20180201T133000
UID:157
DTSTAMP:20260425T205839
LOCATION:Audencia Paris, 95 rue Falguière - PARIS
DESCRIPTION:AUJOURD'HUI, TOUT EST CONTENU !\n\nContent Marketing, Web Content, Content Strategy... le Content s'invite à tous les étages des organisations.\n\nDepuis 2016, Audencia travaille sur cette problématique tant au niveau interne qu'externe. Fort du succès de sa stratégie de contenu (prix d'Honneur Communication & Entreprises, 4e au classement Twitter des Grandes Ecoles), nous vous proposons une conférence dédiée afin d'échanger et partager nos bonnes pratiques, nos outils.\n\nVous êtes donc conviés sur notre Campus Paris le 1er février de 12h30 à 13h30.\n \n\nQuatre intervenants prendront la parole :\n\n\n	Florence TOUZÉ, Enseignant chercheur "Communication de Marque" à AUDENCIA SCIENCESCOM\n	Emilie LELONG, Directrice Communication Adjointe - Corporate à AUDENCIA\n	Emmanuel PIERSON, Directeur Communication Adjoint - Digital à AUDENCIA\n	Christophe CARPINELLI, Deputy Director à AUDENCIA EXECUTIVE EDUCATION\n\n \n\n>> Inscription obligatoire sur Eventbrite <<
BEGIN:VALARM
ACTION:DISPLAY
TRIGGER:-PT60M
DESCRIPTION:CONFÉRENCE DON'T WORRY, BE "CONTENT"
END:VALARM
END:VEVENT
END:VCALENDAR