BEGIN:VCALENDAR
VERSION:2.0
X-WR-TIMEZONE:Europe/Paris
PRODID:-//Audencia//NONSGML v1.0//EN
CALSCALE:GREGORIAN
BEGIN:VEVENT
SUMMARY:88jobsday, 9ème salon de l'emploi des bilingues chinois
DTSTART:20230511T100000
DTEND:20230511T170000
UID:1568
DTSTAMP:20260425T211243
LOCATION:2 Place de la Bourse 75002 Paris
DESCRIPTION:88jobs, Audencia's partner, is organising the largest job fair in France for Chinese-speaking talents. \n\nThe fair will take place in Paris on 11 May and access is free for Audencia students.\n\nAudencia students should register on the website using their @audencia.com email address\n\nProvisional list of participants: CHINA MOBILE, HUAWEI , BANK OF CHINA, BUSINESS FRANCE, JS LOGISTICS, ZONGTENG GROUP, J&T INTERNATIONAL LOGISTICS, FTL EXPRESS, POLE EMPLOI ASIE... \n\nRegistration link: https://88jobsday9.88jobs.com/\n\n
BEGIN:VALARM
ACTION:DISPLAY
TRIGGER:-PT60M
DESCRIPTION:88jobsday, 9ème salon de l'emploi des bilingues chinois
END:VALARM
END:VEVENT
END:VCALENDAR