BEGIN:VCALENDAR
VERSION:2.0
X-WR-TIMEZONE:Europe/Paris
PRODID:-//Audencia//NONSGML v1.0//EN
CALSCALE:GREGORIAN
BEGIN:VEVENT
SUMMARY:International Career A. Augias / Recruitment process in consulting with one of the Big Three firms (MBB)
DTSTART:20230503T183000
DTEND:20230503T193000
UID:1567
DTSTAMP:20260425T211115
LOCATION:
DESCRIPTION:Expert Webinar: Careers in consulting with one of the Big Three firms McKinsey, BCG, Bain (MBB)\n\n\nDATE: WEDNESDAY 3 MAY 2023\nTIME (Paris): 18:30-19:30\nVENUE: online\n\nTeams link to attend: Cliquez ici pour rejoindre la réunion\n\nID de la réunion : 376 113 728 249\nCode secret : biXRSH\n\n\nAre you a student or recent graduate interested in pursuing a career in consulting with one of the Big Three firms (MBB)?\n\nIf so, then join us for an upcoming Career webinar on Wednesday 3 May 2023 with Aude Augias, Audencia Alumna, and consulting expert who will share valuable insights on how to prepare for the recruitment process.\n\nDuring this webinar, you'll learn about the different stages of the recruitment process, including the initial screening, the case study interview, and the behavioural interview. You'll also get tips on how to approach each stage, including what to expect, how to prepare, and how to showcase your skills and experience.\n\nOur expert speaker will also share some of their personal experiences and insights on what it takes to succeed in the consulting industry. You'll have the opportunity to ask questions and engage in discussions with her.\n\nSo whether you're just starting to explore career options or you're already in the midst of the recruitment process, this webinar is for you. Join us and get the knowledge and insights you need to succeed in the highly competitive world of consulting.\n\nRemember, the more questions you ask, the more you'll learn. So come prepared with your burning questions, and let's make this an interactive and informative session!\n \n\n
BEGIN:VALARM
ACTION:DISPLAY
TRIGGER:-PT60M
DESCRIPTION:International Career A. Augias / Recruitment process in consulting with one of the Big Three firms (MBB)
END:VALARM
END:VEVENT
END:VCALENDAR