BEGIN:VCALENDAR
VERSION:2.0
X-WR-TIMEZONE:Europe/Paris
PRODID:-//Audencia//NONSGML v1.0//EN
CALSCALE:GREGORIAN
BEGIN:VEVENT
SUMMARY:Afterwork "culturel" avec Martha Abad Grébert
DTSTART:20230523T191500
DTEND:20230523T220000
UID:1561
DTSTAMP:20260425T210115
LOCATION:La Boissonnière Charonne  52 Rue Léon Frot 75011 Paris
DESCRIPTION:Martha Abad Grébert, professeur d'espagnol et responsable de la majeure culturelle, et ses étudiants seront de passage à Paris et à cette occasion, ils seront ravis de retrouver les anciens de la majeure et ceux et celles qui travaillent dans un métier lié à la culture\n\n\n	\n	le mardi 23 mai à partir de 19h15 \n	\n	\n	à La Boissonnière Charonne (52 Rue Léon Frot, 75011 Paris)\n	\n\n \n\nInscriptions obligatoires !\n\n\n\nQuestion ? : nushad.merchant@audencia.com
BEGIN:VALARM
ACTION:DISPLAY
TRIGGER:-PT60M
DESCRIPTION:Afterwork "culturel" avec Martha Abad Grébert
END:VALARM
END:VEVENT
END:VCALENDAR