BEGIN:VCALENDAR
VERSION:2.0
X-WR-TIMEZONE:Europe/Paris
PRODID:-//Audencia//NONSGML v1.0//EN
CALSCALE:GREGORIAN
BEGIN:VEVENT
SUMMARY:Soirée Ingénieurs-Managers
DTSTART:20230525T193000
DTEND:20230525T223000
UID:1560
DTSTAMP:20260425T211243
LOCATION:Hôtel Westminster 13, rue de la Paix 75002 Paris
DESCRIPTION:\n\n\n- Réservé aux Ingénieurs-Managers -\n \n\nSoirée musicale & dégustation vins\nà l'Hôtel Westminster\n\n \nProfitez le temps d’une soirée pour vous retrouver entre Ingénieurs-Managers, à Paris, et vivre une expérience sensorielle unique pendant laquelle Musique classique et Vin se lieront au sein de l’Hôtel Westminster, à deux pas de la Place Vendôme, lors d’un concert privé et intimiste.\n \n\n\n	Venez écouter l’une des harpistes les plus connues mondialement, ressentir les vibrations de son instrument enchanteur, et prendre le temps d’échanger avec elle lors de cette soirée intime.\n	Laissez-vous porter par les accords musiques et vins, au rythme d’un concert et d’une dégustation commentée, grâce à ‘Rêveries Sonores’ et ‘Involuté’\n	Networkez et laissez-vous porter au sein de cette bulle poétique.\n\n \n\nJeudi 25 mai à 19h30\n- Places limitées -\nGratuit sur inscription\nSi complet, s'inscrire sur liste d'attente en écrivant à lcaliez@audencia.com\n\n\n \n\nAU PROGRAMME :\n• Concert organisé par Sonia Moshnyager, Fondatrice de Rêveries Sonores\nSonia Moshnyager est une altiste de renom, qui joue dans les rangs des orchestres les plus connus au monde. Elle organise, avec sa société « Rêverie Sonores », des concerts privés et a convié, pour cette soirée, l’une des harpistes les plus talentueuses de sa génération. Elles partageront avec vous la passion pour leur Art, qui les anime au quotidien.\n\n• Accords musique et vins par Sophie Roulé (GE 01), Fondatrice de Involuté.\nSophie a fondé avec Sonia Moshyager le concept « Des Notes et du Vin », et co-animera cette soirée placée sous le signe de l’art. Elle vous contera notamment les accords musique et vins de la soirée…\n\n\nContact :\nLaetitia Caliez, lcaliez@audencia.com\n\n \n\n\n
BEGIN:VALARM
ACTION:DISPLAY
TRIGGER:-PT60M
DESCRIPTION:Soirée Ingénieurs-Managers
END:VALARM
END:VEVENT
END:VCALENDAR