BEGIN:VCALENDAR
VERSION:2.0
X-WR-TIMEZONE:Europe/Paris
PRODID:-//Audencia//NONSGML v1.0//EN
CALSCALE:GREGORIAN
BEGIN:VEVENT
SUMMARY:Indo-French sports tournament in Chennai, India
DTSTART:20180203T090000
DTEND:20180203T180000
UID:156
DTSTAMP:20260425T205953
LOCATION:Sishya School Chennai India
DESCRIPTION:IFCCI is all set to organise its very 1st edition of the Indo-French Sports Tournament in Chennai on Saturday, 3rd February 2018 at the Sishya School from 9AM onwards.\n\nThis 'Corporate Sports Meet' is an opportunity for the Indo-French Community to experience a day of fun-filled activities & lovely food while spending time with their family, friends & colleagues!\n\nMatches for Futsal, Rugby & Badminton-Doubles will be conducted throughout the day. Open to your employees as well as their families & friends. Form your teams and register immediately to secure your spot at the tournament! Only 8 teams for Futsal & 4 teams for Rugby!\n\n \nTo register\nDrop a line to shruthi.joseph@ifcci.org.in
BEGIN:VALARM
ACTION:DISPLAY
TRIGGER:-PT60M
DESCRIPTION:Indo-French sports tournament in Chennai, India
END:VALARM
END:VEVENT
END:VCALENDAR