BEGIN:VCALENDAR
VERSION:2.0
X-WR-TIMEZONE:Europe/Paris
PRODID:-//Audencia//NONSGML v1.0//EN
CALSCALE:GREGORIAN
BEGIN:VEVENT
SUMMARY:[SAVE THE DATE] Forum Emploi 2023 留法校友招聘论坛
DTSTART:20230701T000000
DTEND:20230701T000000
UID:1557
DTSTAMP:20260425T211248
LOCATION:Offline in Beijing, Shanghai and Shenzhen
DESCRIPTION:
BEGIN:VALARM
ACTION:DISPLAY
TRIGGER:-PT60M
DESCRIPTION:[SAVE THE DATE] Forum Emploi 2023 留法校友招聘论坛
END:VALARM
END:VEVENT
END:VCALENDAR