BEGIN:VCALENDAR
VERSION:2.0
X-WR-TIMEZONE:Europe/Paris
PRODID:-//Audencia//NONSGML v1.0//EN
CALSCALE:GREGORIAN
BEGIN:VEVENT
SUMMARY:CCI France Chine Event: [Production Working Group] Financing your industrial projects
DTSTART:20230412T040000
DTEND:20230412T053000
UID:1556
DTSTAMP:20260425T211242
LOCATION:CCI FRANCE CHINE Guangzhou Office (Room 802, Leatop Plaza, 32 Zhujiang Dong Road, Guangzhou)
DESCRIPTION:\nCompanies often need financing for their capital expenditures and growth. However it's often complicated for foreign invest companies to find the right banking partner.\n \nCCI FRANCE CHINE is organizing a round table with several banks to discuss the lending climate in 2023 and to present how they could support you by providing financing.\n \nProgram :\n\n	Presentation of Zhanjiang city (Guangdong) : location of the biggest european investment within China Mainland (BASF investment)\n	Round table with Chinese and French banks about financing industrial projects from foreign invest companies.\n	Q&A\n	Networking\n\nTarget audience : CEO, GM, CFO\n \n\n\n\n \n\n\n\n\n\n\n\nDate: Wednesday, 12 April 2023\n\n\n\n\n\n \n\n\n\n\n\n\n\nTime: 10:00 am - 11:30 am\n\n\n \n\n\n\n\n\n\n\n\nLanguage: English\n\n\n\n\n\n\n\n\n\n\n\n\n\n \n\n\n\n\n\n\n\nVenue: CCI FRANCE CHINE Guangzhou Office (Room 802, Leatop Plaza, 32 Zhujiang Dong Road, Guangzhou) / 中国法国工商会广州办公室（广州市珠江新城核心区珠江东路32号,利通广场8楼802室）\n\n\n
BEGIN:VALARM
ACTION:DISPLAY
TRIGGER:-PT60M
DESCRIPTION:CCI France Chine Event: [Production Working Group] Financing your industrial projects
END:VALARM
END:VEVENT
END:VCALENDAR