BEGIN:VCALENDAR
VERSION:2.0
X-WR-TIMEZONE:Europe/Paris
PRODID:-//Audencia//NONSGML v1.0//EN
CALSCALE:GREGORIAN
BEGIN:VEVENT
SUMMARY:CCI France Chine Event: Roundtable - Health & Wellbeing after the pandemic
DTSTART:20230412T040000
DTEND:20230412T060000
UID:1555
DTSTAMP:20260425T211243
LOCATION:金尚源JinShang 北京市朝阳区新源里西20号
DESCRIPTION:\n\n \n\n\nDate: Wednesday, 12 April 2023\n\nTime: 10:00 am to 12:00 pm\n\nLanguage: English\n\nEvent format: On-site at 金尚 Jinshang - Rainbow Terrace, 金尚源JinShang 北京市朝阳区新源里西20号\n\nRegistration: Please scan or click here to register\n \n\nOn April 12th, Entrepreneurs Organization (EO) in partnership with Raffles Hospital & Engineering Wellbeing will be hosting a special event which focuses on ‘Health & Wellbeing after the pandemic’.\n\nThere will be 5 health professionals to share insights into their specialist fields. The intent is to understand the impact of the pandemic and how to take care of your health and wellbeing.\n\nWhile the talks will be from 10-12, we will have a light lunch afterwards to meet more likeminded professionals. So please stick around to connect with others after an insightful morning of sharing. \n\nThe speakers\n\n \n\n\nPaul Rochon\nEO Beijing Metropolitan President \n\nHead of Mental Health department & sleep center\n\n\n\n \n\nDr Sonia Jutard-Bourreau\n\nClinical Director\n\n\nDr Cecille Winnie Joy Brion\n\nHead of Pediatric Department\n\n\nChang Shaochen\n\nLicensed Professional Clinical Counselor\n\n\n\nJaco Ras\n\nHead of Physiotherapy & Rehabilitation
BEGIN:VALARM
ACTION:DISPLAY
TRIGGER:-PT60M
DESCRIPTION:CCI France Chine Event: Roundtable - Health & Wellbeing after the pandemic
END:VALARM
END:VEVENT
END:VCALENDAR