BEGIN:VCALENDAR
VERSION:2.0
X-WR-TIMEZONE:Europe/Paris
PRODID:-//Audencia//NONSGML v1.0//EN
CALSCALE:GREGORIAN
BEGIN:VEVENT
SUMMARY:CCI France Chine Spring Cocktail & 2023 General Assembly
DTSTART:20230329T123000
DTEND:20230329T150000
UID:1554
DTSTAMP:20260425T211116
LOCATION:Beijing, Shanghai, Guangzhou
DESCRIPTION:\n\n \n\n
BEGIN:VALARM
ACTION:DISPLAY
TRIGGER:-PT60M
DESCRIPTION:CCI France Chine Spring Cocktail & 2023 General Assembly
END:VALARM
END:VEVENT
END:VCALENDAR