BEGIN:VCALENDAR
VERSION:2.0
X-WR-TIMEZONE:Europe/Paris
PRODID:-//Audencia//NONSGML v1.0//EN
CALSCALE:GREGORIAN
BEGIN:VEVENT
SUMMARY:Club Consulting : Afterwork
DTSTART:20230419T190000
DTEND:20230419T213000
UID:1553
DTSTAMP:20260425T211558
LOCATION:La Boissonnière Charonne  52 Rue Léon Frot 75011 Paris
DESCRIPTION: \n\n? AFTERWORK - CLUB CONSULTING\n\n\nNous sommes très heureux de vous annoncer le retour des Afterworks du Club Consulting !\n\nNous avons ainsi le plaisir de vous convier à ce premier Afterwork le mercredi 19 avril dès 19h.\n\n? Au programme :\n- Objectifs du Club\n- L'équipe\n- Vos idées/envies pour le prochain\nEt surtout, un joli moment d'échanges & de partages !\n\n? La Boissonnière Charonne (52 Rue Léon Frot, 75011 Paris)\n\nN'hésitez pas à nous contacter pour toute question, et à parler de l'event autour de vous !\n\nNous vous attendons nombreux,\nHadrien Outtier, Jacques Hoang & Margaux Le Roux\n\n\n\n\nQuestion ? : nushad.merchant@audencia.com
BEGIN:VALARM
ACTION:DISPLAY
TRIGGER:-PT60M
DESCRIPTION:Club Consulting : Afterwork
END:VALARM
END:VEVENT
END:VCALENDAR