BEGIN:VCALENDAR
VERSION:2.0
X-WR-TIMEZONE:Europe/Paris
PRODID:-//Audencia//NONSGML v1.0//EN
CALSCALE:GREGORIAN
BEGIN:VEVENT
SUMMARY:Golf Trophy Audencia - 7 juillet - Paris
DTSTART:20230707T123000
DTEND:20230707T193000
UID:1550
DTSTAMP:20260425T211127
LOCATION:Golf de la Vaucouleurs 709, rue de l'Église 78910 Civry-la-Forêt
DESCRIPTION: \nVenez golfer, networker\net relever le challenge de la Fondation Audencia\n\nau Golf de la Vaucouleurs\n(en région parisienne)\n\n\n \nTestez votre swing dans le cadre de charme d’une ancienne ferme restaurée à moins d’une heure de Paris. Créé en 1987 par l’architecte Michel Gayon, ce superbe parcours de l’ouest parisien s’étend sur un domaine de 120 hectares.\n\nLe club offre deux parcours de 18 trous : "La Rivière" et "Les Vallons". Tous deux sont très différents autant esthétiquement que techniquement.\n« Les Vallons », sur lequel vous jouerez, est particulièrement apprécié des amoureux du traditionnel « Links Ecossais » caractérisé par ses fairways entourés de buttes et bordés de hauts roughs, qui rendent ce parcours exigeant. Les joueurs de wedges et les amoureux du petit jeu adorent ce parcours qui affiche une distance totale de 5612 mètres des blanches et vous demandera beaucoup de précision à la mise en jeu.\n\nEnfin, ne vous laissez pas attendrir par ses magnifiques greens tout aussi exigeants que ceux de sa voisine La Rivière. Affûtez votre jeu si vous comptez venir défier les Vallons !\n \nAvec le soutien de :\n\n        \n\n\n\n Un trophée, plusieurs golfs dans le monde !\n\n2ème édition pour le Golf Trophy Audencia qui aura lieu dans différents golfs en France et à l'international. Consultez les golfs participants ici.\n\n\n​ Formule de jeu solidaire\n\nSur un 18 trous, des équipes de 3 jouent en formule scramble :\nA chaque coup, c’est la meilleure balle des 3 joueurs qui est retenue. Une formule qui permet à chacun de jouer selon son niveau.\nLa compétition se déroulera au profit de la Fondation Audencia en fonction du résultat des joueurs.\n\n>> Constituez vos équipes de 3 avec des golfeurs Alumni d'Audencia ou non Alumni. Le Trophée est ouvert à tous !\n\n \n\n Programme\n\n\n	12h30 : accueil\n	13h30 : départs pour le parcours\n	18h : remise des prix de la meilleure équipe 'locale'.\n	18h30 : cocktail au Club House du Golf.\n\n\n \n\n Comment s'inscrire ?\n\n\nEn tant que joueur - 50 € :\nAfin de valider votre inscription, il est nécessaire de procéder à 2 étapes :\n1) Réglez votre participation de 50€ sur ce site (en haut à droite) en cliquant sur "s'inscrire" et en réglant votre participation ;\n2) et remplissez un formulaire en cliquant ici. Un seul formulaire par joueur.\n\nAu cocktail seulement - gratuit* :\nUne seule étape pour vous : remplir le formulaire en cliquant ici.\n*Gratuit pour les diplômés d'Audencia, avec une participation de 10€ pour les invités.\n \n\n Des questions ?\n\nN'hésitez pas à contacter Laetitia Caliez, lcaliez@audencia.com\n\n\n \n\n\nParticipez à un trophée de golf inédit \ndans un cadre exceptionnel !\n\n
BEGIN:VALARM
ACTION:DISPLAY
TRIGGER:-PT60M
DESCRIPTION:Golf Trophy Audencia - 7 juillet - Paris
END:VALARM
END:VEVENT
END:VCALENDAR