BEGIN:VCALENDAR
VERSION:2.0
X-WR-TIMEZONE:Europe/Paris
PRODID:-//Audencia//NONSGML v1.0//EN
CALSCALE:GREGORIAN
BEGIN:VEVENT
SUMMARY:Audencia Around the World in Mexico City
DTSTART:20230418T190000
DTEND:20230418T210000
UID:1549
DTSTAMP:20260425T211355
LOCATION:El Botellón  Av. Tamaulipas 106, Hipódromo Condesa, Cuauhtémoc, 06170 Ciudad de México, CDMX
DESCRIPTION:#Audencia_Worldwide\n\nAlumni in Mexico City will be participating in the 2023 Around The World celebrations, and, as usual, they are doing it their way!\n\nJoin the local alumni community for drinks & dinner on Tuesday 18 April 7pm onwards (local time) at El Botellón (Av. Tamaulipas 106, Hipódromo Condesa, Cuauhtémoc, 06170 Ciudad de México, CDMX).\n\n\n\n\nAround the World events will begin on 24 March 2023 and travel to cities on all five continents before coming to a close on 10 April. This event is for alumni and students who are currently living and working in different cities worldwide. For its fifth edition, Audencian ambassadors around the world are being creative, inventive and resourceful in devising activities for their alumni communities. Your challenge, should you choose to accept it, is to join them!\n\nDiscover what else is happening Around the World in 2023:\n\n\n\n\nIf you can’t find an event taking place near you, drop us a line and we’ll help you set one up!
BEGIN:VALARM
ACTION:DISPLAY
TRIGGER:-PT60M
DESCRIPTION:Audencia Around the World in Mexico City
END:VALARM
END:VEVENT
END:VCALENDAR