BEGIN:VCALENDAR
VERSION:2.0
X-WR-TIMEZONE:Europe/Paris
PRODID:-//Audencia//NONSGML v1.0//EN
CALSCALE:GREGORIAN
BEGIN:VEVENT
SUMMARY:Chapter Barcelona: Afterwork with Audencia's Career Center
DTSTART:20230424T203000
DTEND:20230424T220000
UID:1547
DTSTAMP:20260425T211115
LOCATION:La Garriga Eixample C/ de Mallorca, 272 08037 Barcelona
DESCRIPTION:On the occasion of Patricia & Shyla's visit to Barcelona, alumni & students are invited to join them for an informal afterwork on:\n \n\n	Date: Monday 24 April\n	Time: 7pm-9pm\n	At: La Garriga Eixample (C/ de Mallorca, 272, 08037 Barcelona)\n\n\nThis will be a great opportunity to catch up with all the latest news of Audencia and share stories with them about your home city of Barcelona!\n \n\n\nQuestion? : nushad.merchant@audencia.com
BEGIN:VALARM
ACTION:DISPLAY
TRIGGER:-PT60M
DESCRIPTION:Chapter Barcelona: Afterwork with Audencia's Career Center
END:VALARM
END:VEVENT
END:VCALENDAR