BEGIN:VCALENDAR
VERSION:2.0
X-WR-TIMEZONE:Europe/Paris
PRODID:-//Audencia//NONSGML v1.0//EN
CALSCALE:GREGORIAN
BEGIN:VEVENT
SUMMARY:Chapter Singapore : Fresque du Climat
DTSTART:20230424T120000
DTEND:20230424T150000
UID:1546
DTSTAMP:20260425T211115
LOCATION:TBC
DESCRIPTION:SAVE THE DATE\n\n\n\n 
BEGIN:VALARM
ACTION:DISPLAY
TRIGGER:-PT60M
DESCRIPTION:Chapter Singapore : Fresque du Climat
END:VALARM
END:VEVENT
END:VCALENDAR