BEGIN:VCALENDAR
VERSION:2.0
X-WR-TIMEZONE:Europe/Paris
PRODID:-//Audencia//NONSGML v1.0//EN
CALSCALE:GREGORIAN
BEGIN:VEVENT
SUMMARY:Afterwork SciencesCom
DTSTART:20230622T183000
DTEND:20230622T213000
UID:1545
DTSTAMP:20260425T210610
LOCATION:Médiacampus, 41 Bd de la Prairie au Duc, 44200 Nantes
DESCRIPTION:Chers alumni SciencesCom,\n\nNous vous donnons rendez-vous le Jeudi 22 Juin 2023 pour un afterwork nantais au Médiacampus de 18h30 à 21h30.\n\nCet événement se tiendra dans le cadre de la semaine des oraux de compétences des étudiants de la promo 2023 SciencesCom du 19 au 23 juin. Si vous souhaitez participer en tant que jury et êtes diplômé depuis au moins 3 ans, n'hésitez pas à contacter schancelier@audencia.com.\n\n\n\nHâte de vous retrouver ou rencontrer !
BEGIN:VALARM
ACTION:DISPLAY
TRIGGER:-PT60M
DESCRIPTION:Afterwork SciencesCom
END:VALARM
END:VEVENT
END:VCALENDAR