BEGIN:VCALENDAR
VERSION:2.0
X-WR-TIMEZONE:Europe/Paris
PRODID:-//Audencia//NONSGML v1.0//EN
CALSCALE:GREGORIAN
BEGIN:VEVENT
SUMMARY:AMBA Connect in Edinburgh
DTSTART:20230704T183000
DTEND:20230704T213000
UID:1543
DTSTAMP:20260425T211355
LOCATION:University of Edinburgh Business School 29 Buccleuch Place Edinburgh, EH8 9JS
DESCRIPTION:What is AMBA Connect?\nAMBA Connect events are a series of member-focused, evening events designed to bring together student and graduate members from our ever-growing network of MBAs, MBMs and DBAs around the world. \n\nThese events are the perfect setting for future business leaders from AMBA-accredited programmes who wish to meet and exchange insights with like-minded peers, build their professional networks and hear from business leaders, academics, and thought-leaders.\n\nThis July we find ourselves in Scotland, and we invite our members from around the UK and beyond to join us for an evening of high-level discussions, informative expert opinion and invaluable networking opportunities.\n\nDate and time: 4th July 2023 | 18:30 – 21:30 GMT\nVenue: University of Edinburgh Business School, 29 Buccleuch Place, Edinburgh, EH8 9JS\nCost: £10 per entry\n \nBOOK YOUR PLACE HERE\n\n \n\nProgramme\n18:30 – 19:00: Registration, Canapés & Welcome Drinks\n19:00 – 19:05: Welcome \n19:05 – 20:00: Speaker \n20:00 – 21:30: Networking & Refreshments \n \nAMBA Membership\n\nDid you graduate from an AMBA-accredited programme at Audencia?\n\nAlumni from Audencia's Grande Ecole and MBA (full-time, executive part-time & EuroMBA) programmes are invited by AMBA, the Association of MBAs for an evening of networking and relationship-building in Amsterdam with students and alumni of AMBA-accredited programmes.\n\nThis event is free for students and graduates of AMBA-accredited programmes but online registration is required.\nStudents and graduates of AMBA-accredited programmes are eligible for free AMBA membership, which provides a range of exclusive benefits.\nIf you have not activated your free AMBA membership, registering for this event and selecting 'Yes' in the 'Are you interested in AMBA membership question' you agree for AMBA to automatically activate your free membership (depending on eligibility) following the event and to begin receiving membership communications.\n\nIf you have any questions about AMBA membership please visit www.associationofmbas.com/students-and-graduates or contact the team via membership@associationofmbas.com\n\n 
BEGIN:VALARM
ACTION:DISPLAY
TRIGGER:-PT60M
DESCRIPTION:AMBA Connect in Edinburgh
END:VALARM
END:VEVENT
END:VCALENDAR